BEGIN:VCALENDAR
VERSION:2.0
CALSCALE:GREGORIAN
BEGIN:VEVENT
DTSTAMP:20260421T234349
DTSTART:20180523T000000
DTEND:20180523T000000
SUMMARY:APVSA Wine Tasting
DESCRIPTION:Event Info: https://www.localwineevents.com/view/event/apvsa-wine-tasting/718750
LOCATION:Sofitel Hotel -- 120 South, 17th Street Philadelphia, Pennsylvania 19103
STATUS:CONFIRMED
SEQUENCE:0
TRANSP:OPAQUE
END:VEVENT
END:VCALENDAR
