BEGIN:VCALENDAR
VERSION:2.0
CALSCALE:GREGORIAN
BEGIN:VEVENT
DTSTAMP:20260420T093942
DTSTART:20180509T000000
DTEND:20180509T000000
SUMMARY:Harry\'s- Antinori Estates Wine Dinner
DESCRIPTION:Event Info: https://www.localwineevents.com/view/event/harrys--antinori-estates-wine-dinner/716443
LOCATION:Finalmente Trattoria -- 165 Post Road East Westport, CT 06880
STATUS:CONFIRMED
SEQUENCE:0
TRANSP:OPAQUE
END:VEVENT
END:VCALENDAR
