BEGIN:VCALENDAR
VERSION:2.0
CALSCALE:GREGORIAN
BEGIN:VEVENT
DTSTAMP:20260421T030548
DTSTART:20180315T000000
DTEND:20180315T000000
SUMMARY:Joseph Phelps Wine Dinner
DESCRIPTION:Event Info: https://www.localwineevents.com/view/event/joseph-phelps-wine-dinner/711790
LOCATION:Fleming\'s Prime Steakhouse  Wine Bar -- 44 South Main Street West Hartford, CT 06107
STATUS:CONFIRMED
SEQUENCE:0
TRANSP:OPAQUE
END:VEVENT
END:VCALENDAR
