BEGIN:VCALENDAR
VERSION:2.0
CALSCALE:GREGORIAN
BEGIN:VEVENT
DTSTAMP:20260422T182323
DTSTART:20180422T000000
DTEND:20180422T000000
SUMMARY:Erie\'s Wine  Spirits FestaPalooza
DESCRIPTION:Event Info: https://www.localwineevents.com/view/event/eries-wine-spirits-festapalooza/679484
LOCATION:Ambassador Conference Center -- 7794 Peach Street Erie, PA 16509
STATUS:CONFIRMED
SEQUENCE:0
TRANSP:OPAQUE
END:VEVENT
END:VCALENDAR
