BEGIN:VCALENDAR
VERSION:2.0
CALSCALE:GREGORIAN
BEGIN:VEVENT
DTSTAMP:20260424T005829
DTSTART:20260510T110000
DTEND:20260510T160000
SUMMARY:Mother\'s Day Brunch Buffet
DESCRIPTION:Event Info: https://www.localwineevents.com/view/event/mothers-day-brunch-buffet/1003773
LOCATION:Brady\'s -- 37 Mechanic St Leominster, MA 01453
STATUS:CONFIRMED
SEQUENCE:0
TRANSP:OPAQUE
END:VEVENT
END:VCALENDAR
