BEGIN:VCALENDAR
VERSION:2.0
CALSCALE:GREGORIAN
BEGIN:VEVENT
DTSTAMP:20260424T010537
DTSTART:20260503T160000
DTEND:20260503T190000
SUMMARY:A Celebration Of La Copine + Cookbook Release Party
DESCRIPTION:Event Info: https://www.localwineevents.com/view/event/a-celebration-of-la-copine-cookbook-release-party/1003772
LOCATION:The Koji Club -- 525 Western Ave Boston, MA 02135
STATUS:CONFIRMED
SEQUENCE:0
TRANSP:OPAQUE
END:VEVENT
END:VCALENDAR
