BEGIN:VCALENDAR
VERSION:2.0
CALSCALE:GREGORIAN
BEGIN:VEVENT
DTSTAMP:20260424T005804
DTSTART:20260602T170000
DTEND:20260602T200000
SUMMARY:Spring Into Summer Party
DESCRIPTION:Event Info: https://www.localwineevents.com/view/event/spring-into-summer-party/1003771
LOCATION:Tonno Gloucester -- 2 Main St. Gloucester, MA 01930
STATUS:CONFIRMED
SEQUENCE:0
TRANSP:OPAQUE
END:VEVENT
END:VCALENDAR
