BEGIN:VCALENDAR
VERSION:2.0
CALSCALE:GREGORIAN
BEGIN:VEVENT
DTSTAMP:20260424T043733
DTSTART:20260509T110000
DTEND:20260509T210000
SUMMARY:Endless Empanadas  Cousins Maine Lobster W/ Mike Chet Beck Live At Bishop
DESCRIPTION:Event Info: https://www.localwineevents.com/view/event/endless-empanadas-cousins-maine-lobster-w-mike-chet-beck-live-at-bishop/1003770
LOCATION:Bishop Estate Vineyard and Winery -- 2730 Hilltown Pike Perkasie, Pa 18944
STATUS:CONFIRMED
SEQUENCE:0
TRANSP:OPAQUE
END:VEVENT
END:VCALENDAR
