BEGIN:VCALENDAR
VERSION:2.0
CALSCALE:GREGORIAN
BEGIN:VEVENT
DTSTAMP:20260424T043734
DTSTART:20260502T110000
DTEND:20260502T210000
SUMMARY:Scratch Kitchen  The Craven Food Truck W/ Mike  Brian Project Live
DESCRIPTION:Event Info: https://www.localwineevents.com/view/event/scratch-kitchen-the-craven-food-truck-w-mike-brian-project-live/1003769
LOCATION:Bishop Estate Vineyard and Winery -- 2730 Hilltown Pike Perkasie, Pa 18944
STATUS:CONFIRMED
SEQUENCE:0
TRANSP:OPAQUE
END:VEVENT
END:VCALENDAR
