BEGIN:VCALENDAR
VERSION:2.0
CALSCALE:GREGORIAN
BEGIN:VEVENT
DTSTAMP:20260424T043041
DTSTART:20260501T170000
DTEND:20260501T210000
SUMMARY:Spuddy Buddy Food Truck With Jamie Stem Live At Bishops
DESCRIPTION:Event Info: https://www.localwineevents.com/view/event/spuddy-buddy-food-truck-with-jamie-stem-live-at-bishops/1003765
LOCATION:Bishop Estate Vineyard and Winery -- 2730 Hilltown Pike Perkasie, Pa 18944
STATUS:CONFIRMED
SEQUENCE:0
TRANSP:OPAQUE
END:VEVENT
END:VCALENDAR
