BEGIN:VCALENDAR
VERSION:2.0
CALSCALE:GREGORIAN
BEGIN:VEVENT
DTSTAMP:20260424T042510
DTSTART:20260501T180000
DTEND:20260501T203000
SUMMARY:Beginner 101 Mahjong At Bishop Estate!
DESCRIPTION:Event Info: https://www.localwineevents.com/view/event/beginner-101-mahjong-at-bishop-estate/1003760
LOCATION:Bishop Estate Vineyard and Winery -- 2730 Hilltown Pike Perkasie, Pa 18944
STATUS:CONFIRMED
SEQUENCE:0
TRANSP:OPAQUE
END:VEVENT
END:VCALENDAR
