BEGIN:VCALENDAR
VERSION:2.0
CALSCALE:GREGORIAN
BEGIN:VEVENT
DTSTAMP:20260424T043000
DTSTART:20260528T183000
DTEND:20260528T093000
SUMMARY:Beginner Country Line Dancing Workshop W/ Shotgun Jenny At Bishop Estate
DESCRIPTION:Event Info: https://www.localwineevents.com/view/event/beginner-country-line-dancing-workshop-w-shotgun-jenny-at-bishop-estate/1003759
LOCATION:Bishop Estate Vineyard and Winery -- 2730 Hilltown Pike Perkasie, Pa 18944
STATUS:CONFIRMED
SEQUENCE:0
TRANSP:OPAQUE
END:VEVENT
END:VCALENDAR
