BEGIN:VCALENDAR
VERSION:2.0
CALSCALE:GREGORIAN
BEGIN:VEVENT
DTSTAMP:20260424T043000
DTSTART:20260509T110000
DTEND:20260509T130000
SUMMARY:Wine, Friends,  Fun: Mother\'s Day Flower Bouquet Class
DESCRIPTION:Event Info: https://www.localwineevents.com/view/event/wine-friends-fun-mothers-day-flower-bouquet-class/1003758
LOCATION:Bishop Estate Vineyard and Winery -- 2730 Hilltown Pike Perkasie, Pa 18944
STATUS:CONFIRMED
SEQUENCE:0
TRANSP:OPAQUE
END:VEVENT
END:VCALENDAR
