BEGIN:VCALENDAR
VERSION:2.0
CALSCALE:GREGORIAN
BEGIN:VEVENT
DTSTAMP:20260423T205744
DTSTART:20260425T120000
DTEND:20260426T170000
SUMMARY:Viva South America! Sazon Latin Kitchen At Urban Legend Cellars
DESCRIPTION:Event Info: https://www.localwineevents.com/view/event/viva-south-america-sazon-latin-kitchen-at-urban-legend-cellars/1003757
LOCATION:Urban Legend Cellars -- 1951 Monarch St. Alameda, CA 94501
STATUS:CONFIRMED
SEQUENCE:0
TRANSP:OPAQUE
END:VEVENT
END:VCALENDAR
