BEGIN:VCALENDAR
VERSION:2.0
CALSCALE:GREGORIAN
BEGIN:VEVENT
DTSTAMP:20260424T005829
DTSTART:20260429T183000
DTEND:20260429T213000
SUMMARY:Spring Wine Dinner At West On Centre In West Roxbury!
DESCRIPTION:Event Info: https://www.localwineevents.com/view/event/spring-wine-dinner-at-west-on-centre-in-west-roxbury/1003756
LOCATION:West on Centre -- 1732 Centre Street West Roxbury, MA 02132
STATUS:CONFIRMED
SEQUENCE:0
TRANSP:OPAQUE
END:VEVENT
END:VCALENDAR
