BEGIN:VCALENDAR
VERSION:2.0
CALSCALE:GREGORIAN
BEGIN:VEVENT
DTSTAMP:20260424T010608
DTSTART:20260428T180000
DTEND:20260428T210000
SUMMARY:Best Of Italy: Regional Wine Dinner
DESCRIPTION:Event Info: https://www.localwineevents.com/view/event/best-of-italy-regional-wine-dinner/1003748
LOCATION:Tonno Gloucester -- 2 Main St. Gloucester, MA 01930
STATUS:CONFIRMED
SEQUENCE:0
TRANSP:OPAQUE
END:VEVENT
END:VCALENDAR
