BEGIN:VCALENDAR
VERSION:2.0
CALSCALE:GREGORIAN
BEGIN:VEVENT
DTSTAMP:20260423T173304
DTSTART:20260430T183000
DTEND:20260430T200000
SUMMARY:Pre-Cinco De Mayo Authentic Tequila Deep DiveExploring Differences!
DESCRIPTION:Event Info: https://www.localwineevents.com/view/event/pre-cinco-de-mayo-authentic-tequila-deep-diveexploring-differences/1003744
LOCATION:Bill Gray\'s Tap Room and Event Space -- 964 Ridge Rd WEBSTER, NY 14580-2555
STATUS:CONFIRMED
SEQUENCE:0
TRANSP:OPAQUE
END:VEVENT
END:VCALENDAR
