BEGIN:VCALENDAR
VERSION:2.0
CALSCALE:GREGORIAN
BEGIN:VEVENT
DTSTAMP:20260424T005905
DTSTART:20260426T120000
DTEND:20260426T190000
SUMMARY:Marky\'s Anniversary Tasting
DESCRIPTION:Event Info: https://www.localwineevents.com/view/event/markys-anniversary-tasting/1003743
LOCATION:Marky\'s Caviar Boston -- 420 Harvard St Brookline, MA 02446
STATUS:CONFIRMED
SEQUENCE:0
TRANSP:OPAQUE
END:VEVENT
END:VCALENDAR
