BEGIN:VCALENDAR
VERSION:2.0
CALSCALE:GREGORIAN
BEGIN:VEVENT
DTSTAMP:20260423T183328
DTSTART:20260507T180000
DTEND:20260507T193000
SUMMARY:Tequila Talk  Tasting
DESCRIPTION:Event Info: https://www.localwineevents.com/view/event/tequila-talk-tasting/1003736
LOCATION:Cape Cod Package Store Fine Wine  Spirits -- 1495 Falmouth Road Centerville, MA 02632
STATUS:CONFIRMED
SEQUENCE:0
TRANSP:OPAQUE
END:VEVENT
END:VCALENDAR
