BEGIN:VCALENDAR
VERSION:2.0
CALSCALE:GREGORIAN
BEGIN:VEVENT
DTSTAMP:20260424T005935
DTSTART:20260515T183000
DTEND:20260515T213000
SUMMARY:Garden Party  Dinner At SJ\'s In Boston!
DESCRIPTION:Event Info: https://www.localwineevents.com/view/event/garden-party-dinner-at-sjs-in-boston/1003720
LOCATION:SJ\'s, -- 745 Atlantic Avenue Boston, MA 02111
STATUS:CONFIRMED
SEQUENCE:0
TRANSP:OPAQUE
END:VEVENT
END:VCALENDAR
