BEGIN:VCALENDAR
VERSION:2.0
CALSCALE:GREGORIAN
BEGIN:VEVENT
DTSTAMP:20260423T141053
DTSTART:20260505T160000
DTEND:20260506T000000
SUMMARY:Cinco De Mayo Features At Tumans Tap  Grill
DESCRIPTION:Event Info: https://www.localwineevents.com/view/event/cinco-de-mayo-features-at-tumans-tap-grill/1003717
LOCATION:Tuman\'s Tap  Grill -- 2159 W. Chicago Ave. Chicago, IL 60622
STATUS:CONFIRMED
SEQUENCE:0
TRANSP:OPAQUE
END:VEVENT
END:VCALENDAR
