BEGIN:VCALENDAR
VERSION:2.0
CALSCALE:GREGORIAN
BEGIN:VEVENT
DTSTAMP:20260423T170923
DTSTART:20260513T183000
DTEND:20260513T203000
SUMMARY:Curious Elixirs - Botanical Cocktail Party
DESCRIPTION:Event Info: https://www.localwineevents.com/view/event/curious-elixirs---botanical-cocktail-party/1003716
LOCATION:4055 Telegraph Ave -- 4055 Telegraph Avenue Oakland, CA 94609
STATUS:CONFIRMED
SEQUENCE:0
TRANSP:OPAQUE
END:VEVENT
END:VCALENDAR
