BEGIN:VCALENDAR
VERSION:2.0
CALSCALE:GREGORIAN
BEGIN:VEVENT
DTSTAMP:20260423T140957
DTSTART:20260502T110000
DTEND:20260503T030000
SUMMARY:Kentucky Derby Specials At Tumans Tap  Grill
DESCRIPTION:Event Info: https://www.localwineevents.com/view/event/kentucky-derby-specials-at-tumans-tap-grill/1003708
LOCATION:Tuman\'s Tap  Grill -- 2159 W. Chicago Ave. Chicago, IL 60622
STATUS:CONFIRMED
SEQUENCE:0
TRANSP:OPAQUE
END:VEVENT
END:VCALENDAR
