BEGIN:VCALENDAR
VERSION:2.0
CALSCALE:GREGORIAN
BEGIN:VEVENT
DTSTAMP:20260423T170827
DTSTART:20260513T180000
DTEND:20260513T200000
SUMMARY:An Evening With Weller\'s Bourbon @ Scotty\'s
DESCRIPTION:Event Info: https://www.localwineevents.com/view/event/an-evening-with-wellers-bourbon-scottys/1003702
LOCATION:Scotty\'s Bar -- 548 Emerson Street Palo Alto, CA 94301
STATUS:CONFIRMED
SEQUENCE:0
TRANSP:OPAQUE
END:VEVENT
END:VCALENDAR
