BEGIN:VCALENDAR
VERSION:2.0
CALSCALE:GREGORIAN
BEGIN:VEVENT
DTSTAMP:20260424T041943
DTSTART:20260513T180000
DTEND:20260513T200000
SUMMARY:Roll Sushi With Chef Davis - Sushi Making Cooking Class In NYC | Classpop!
DESCRIPTION:Event Info: https://www.localwineevents.com/view/event/roll-sushi-with-chef-davis---sushi-making-cooking-class-in-nyc-classpop/1003675
LOCATION:Wandering Barman -- 315 Meserole Street Brooklyn, NY 11206
STATUS:CONFIRMED
SEQUENCE:0
TRANSP:OPAQUE
END:VEVENT
END:VCALENDAR
