BEGIN:VCALENDAR
VERSION:2.0
CALSCALE:GREGORIAN
BEGIN:VEVENT
DTSTAMP:20260423T170923
DTSTART:20260513T180000
DTEND:20260513T193000
SUMMARY:A Salon Of Fine Wine And Sophisticated Magic
DESCRIPTION:Event Info: https://www.localwineevents.com/view/event/a-salon-of-fine-wine-and-sophisticated-magic/1003673
LOCATION:Cordial Bottle Shop Castro Valley -- 3295 Castro Valley Boulevard Castro Valley, CA 94546
STATUS:CONFIRMED
SEQUENCE:0
TRANSP:OPAQUE
END:VEVENT
END:VCALENDAR
