BEGIN:VCALENDAR
VERSION:2.0
CALSCALE:GREGORIAN
BEGIN:VEVENT
DTSTAMP:20260424T043735
DTSTART:20260513T183000
DTEND:20260513T200000
SUMMARY:Mozzarella Making
DESCRIPTION:Event Info: https://www.localwineevents.com/view/event/mozzarella-making/1003671
LOCATION:Murray\'s Cheese Shop -- 254 Bleecker Street New York, NY 10014
STATUS:CONFIRMED
SEQUENCE:0
TRANSP:OPAQUE
END:VEVENT
END:VCALENDAR
