BEGIN:VCALENDAR
VERSION:2.0
CALSCALE:GREGORIAN
BEGIN:VEVENT
DTSTAMP:20260424T043734
DTSTART:20260513T180000
DTEND:20260513T200000
SUMMARY:Roman Night At La Pizza  La Pasta
DESCRIPTION:Event Info: https://www.localwineevents.com/view/event/roman-night-at-la-pizza-la-pasta/1003665
LOCATION:Eataly King of Prussia -- 160 North Gulph Road King of Prussia, PA 19406
STATUS:CONFIRMED
SEQUENCE:0
TRANSP:OPAQUE
END:VEVENT
END:VCALENDAR
