BEGIN:VCALENDAR
VERSION:2.0
CALSCALE:GREGORIAN
BEGIN:VEVENT
DTSTAMP:20260423T211614
DTSTART:20260513T180000
DTEND:20260513T193000
SUMMARY:Champagne, Caviar  Oyster Tasting
DESCRIPTION:Event Info: https://www.localwineevents.com/view/event/champagne-caviar-oyster-tasting/1003664
LOCATION:On The Mark Palm Springs -- 111 North Palm Canyon Drive Palm Springs, CA 92262
STATUS:CONFIRMED
SEQUENCE:0
TRANSP:OPAQUE
END:VEVENT
END:VCALENDAR
