BEGIN:VCALENDAR
VERSION:2.0
CALSCALE:GREGORIAN
BEGIN:VEVENT
DTSTAMP:20260424T043041
DTSTART:20260513T190000
DTEND:20260513T210000
SUMMARY:Roman Night At Ristorante
DESCRIPTION:Event Info: https://www.localwineevents.com/view/event/roman-night-at-ristorante/1003663
LOCATION:Eataly Short Hills -- 1200 Morris Turnpike Millburn, NJ 07078
STATUS:CONFIRMED
SEQUENCE:0
TRANSP:OPAQUE
END:VEVENT
END:VCALENDAR
