BEGIN:VCALENDAR
VERSION:2.0
CALSCALE:GREGORIAN
BEGIN:VEVENT
DTSTAMP:20260423T215606
DTSTART:20260513T170000
DTEND:20260513T193000
SUMMARY:MACARON MAGIC: Mother\'s Day Edition
DESCRIPTION:Event Info: https://www.localwineevents.com/view/event/macaron-magic-mothers-day-edition/1003661
LOCATION:Ellie\'s -- 250 Westminster Street Providence, RI 02903
STATUS:CONFIRMED
SEQUENCE:0
TRANSP:OPAQUE
END:VEVENT
END:VCALENDAR
