BEGIN:VCALENDAR
VERSION:2.0
CALSCALE:GREGORIAN
BEGIN:VEVENT
DTSTAMP:20260423T211604
DTSTART:20260513T173000
DTEND:20260513T193000
SUMMARY:Wine Class:  Understanding Terroir
DESCRIPTION:Event Info: https://www.localwineevents.com/view/event/wine-class-understanding-terroir/1003659
LOCATION:Argaux, Airport Loop Drive, Costa Mesa, CA, USA -- 3190-A Airport Loop Drive Costa Mesa, CA 92626
STATUS:CONFIRMED
SEQUENCE:0
TRANSP:OPAQUE
END:VEVENT
END:VCALENDAR
