BEGIN:VCALENDAR
VERSION:2.0
CALSCALE:GREGORIAN
BEGIN:VEVENT
DTSTAMP:20260424T005905
DTSTART:20260513T180000
DTEND:20260513T190000
SUMMARY:Demo  Dine: Pasta Carbonara
DESCRIPTION:Event Info: https://www.localwineevents.com/view/event/demo-dine-pasta-carbonara/1003658
LOCATION:Eataly Boston -- 800 Boylston Street Boston, MA 02199
STATUS:CONFIRMED
SEQUENCE:0
TRANSP:OPAQUE
END:VEVENT
END:VCALENDAR
