BEGIN:VCALENDAR
VERSION:2.0
CALSCALE:GREGORIAN
BEGIN:VEVENT
DTSTAMP:20260423T170958
DTSTART:20260513T153000
DTEND:20260513T173000
SUMMARY:7th Annual Wine Walk At Embarcadero Center
DESCRIPTION:Event Info: https://www.localwineevents.com/view/event/7th-annual-wine-walk-at-embarcadero-center/1003655
LOCATION:Three Embarcadero Center -- Sacramento Street San Francisco, CA 94111
STATUS:CONFIRMED
SEQUENCE:0
TRANSP:OPAQUE
END:VEVENT
END:VCALENDAR
