BEGIN:VCALENDAR
VERSION:2.0
CALSCALE:GREGORIAN
BEGIN:VEVENT
DTSTAMP:20260424T043733
DTSTART:20260513T173000
DTEND:20260513T193000
SUMMARY:Tour Of Bordeaux Wine Tasting
DESCRIPTION:Event Info: https://www.localwineevents.com/view/event/tour-of-bordeaux-wine-tasting/1003643
LOCATION:Home Studios Inc. -- 873 Broadway New York, NY 10003
STATUS:CONFIRMED
SEQUENCE:0
TRANSP:OPAQUE
END:VEVENT
END:VCALENDAR
