BEGIN:VCALENDAR
VERSION:2.0
CALSCALE:GREGORIAN
BEGIN:VEVENT
DTSTAMP:20260423T215221
DTSTART:20260513T183000
DTEND:20260513T203000
SUMMARY:The Art Of Ruffino: Wine  Pairing
DESCRIPTION:Event Info: https://www.localwineevents.com/view/event/the-art-of-ruffino-wine-pairing/1003622
LOCATION:Giardino\'s Abington Italian Steak House -- 497 Bedford Street Abington, MA 02351
STATUS:CONFIRMED
SEQUENCE:0
TRANSP:OPAQUE
END:VEVENT
END:VCALENDAR
