BEGIN:VCALENDAR
VERSION:2.0
CALSCALE:GREGORIAN
BEGIN:VEVENT
DTSTAMP:20260423T170923
DTSTART:20260513T183000
DTEND:20260513T203000
SUMMARY:Coastal Mist: A Joyce Wine Dinner
DESCRIPTION:Event Info: https://www.localwineevents.com/view/event/coastal-mist-a-joyce-wine-dinner/1003620
LOCATION:Beach Chalet Brewery and Restaurant -- 1000 Great Highway San Francisco, CA 94121
STATUS:CONFIRMED
SEQUENCE:0
TRANSP:OPAQUE
END:VEVENT
END:VCALENDAR
