BEGIN:VCALENDAR
VERSION:2.0
CALSCALE:GREGORIAN
BEGIN:VEVENT
DTSTAMP:20260423T133120
DTSTART:20260813T183000
DTEND:20260813T200000
SUMMARY:Duckhorn Vineyards 50th Anniversary. From 1976 To Forever.
DESCRIPTION:Event Info: https://www.localwineevents.com/view/event/duckhorn-vineyards-50th-anniversary-from-1976-to-forever/1003581
LOCATION:Total Wine  More | Bridgepointe Shopping Center -- 2250 Bridgepointe Pkwy San Mateo, California 94404
STATUS:CONFIRMED
SEQUENCE:0
TRANSP:OPAQUE
END:VEVENT
END:VCALENDAR
