BEGIN:VCALENDAR
VERSION:2.0
CALSCALE:GREGORIAN
BEGIN:VEVENT
DTSTAMP:20260423T190856
DTSTART:20260730T183000
DTEND:20260730T200000
SUMMARY:Duckhorn Vineyards 50th Anniversary. From 1976 To Forever.
DESCRIPTION:Event Info: https://www.localwineevents.com/view/event/duckhorn-vineyards-50th-anniversary-from-1976-to-forever/1003578
LOCATION:Total Wine  More | Pacific Commons -- 43484 Boscell Road Fremont, California 94538
STATUS:CONFIRMED
SEQUENCE:0
TRANSP:OPAQUE
END:VEVENT
END:VCALENDAR
