BEGIN:VCALENDAR
VERSION:2.0
CALSCALE:GREGORIAN
BEGIN:VEVENT
DTSTAMP:20260423T134408
DTSTART:20260613T120000
DTEND:20260613T150000
SUMMARY:Celebrate 20 Years Of Whispering Angel This National Ros Day
DESCRIPTION:Event Info: https://www.localwineevents.com/view/event/celebrate-20-years-of-whispering-angel-this-national-ros-day/1003447
LOCATION:Total Wine  More | Bridgepointe Shopping Center -- 2250 Bridgepointe Pkwy San Mateo, California 94404
STATUS:CONFIRMED
SEQUENCE:0
TRANSP:OPAQUE
END:VEVENT
END:VCALENDAR
