BEGIN:VCALENDAR
VERSION:2.0
CALSCALE:GREGORIAN
BEGIN:VEVENT
DTSTAMP:20260423T133030
DTSTART:20260822T170000
DTEND:20260822T183000
SUMMARY:From Tip To ToeA Wine Tour Of Italy
DESCRIPTION:Event Info: https://www.localwineevents.com/view/event/from-tip-to-toea-wine-tour-of-italy/1003156
LOCATION:Total Wine  More | Bridgepointe Shopping Center -- 2250 Bridgepointe Pkwy San Mateo, California 94404
STATUS:CONFIRMED
SEQUENCE:0
TRANSP:OPAQUE
END:VEVENT
END:VCALENDAR
