BEGIN:VCALENDAR
VERSION:2.0
CALSCALE:GREGORIAN
BEGIN:VEVENT
DTSTAMP:20260423T095203
DTSTART:20260427T210000
DTEND:20260501T110000
SUMMARY:5 Wine  Food PAIRING MISTAKES That Can RUIN Your Dinner ;)
DESCRIPTION:Event Info: https://www.localwineevents.com/view/class/5-wine-food-pairing-mistakes-that-can-ruin-your-dinner-/1003143
LOCATION:
STATUS:CONFIRMED
SEQUENCE:0
TRANSP:OPAQUE
END:VEVENT
END:VCALENDAR
