BEGIN:VCALENDAR
VERSION:2.0
CALSCALE:GREGORIAN
BEGIN:VEVENT
DTSTAMP:20260422T232208
DTSTART:20260510T110000
DTEND:20260510T140000
SUMMARY:Alexanders Steakhouse Cupertino Celebrates Mom With Special Lunch
DESCRIPTION:Event Info: https://www.localwineevents.com/view/event/alexanders-steakhouse-cupertino-celebrates-mom-with-special-lunch/1003139
LOCATION:Alexander\'s Steakhouse Cupertino -- 19379 Stevens Creek Boulevard Cupertino, CA 95014
STATUS:CONFIRMED
SEQUENCE:0
TRANSP:OPAQUE
END:VEVENT
END:VCALENDAR
