BEGIN:VCALENDAR
VERSION:2.0
CALSCALE:GREGORIAN
BEGIN:VEVENT
DTSTAMP:20260422T232201
DTSTART:20260510T103000
DTEND:20260510T150000
SUMMARY:The Sea By Alexanders Steakhouse Celebrates Mom With Special Brunch
DESCRIPTION:Event Info: https://www.localwineevents.com/view/event/the-sea-by-alexanders-steakhouse-celebrates-mom-with-special-brunch/1003138
LOCATION:The Sea by Alexander\'s Steakhouse -- 4269 W. El Camino Real Palo Alto, CA 94306
STATUS:CONFIRMED
SEQUENCE:0
TRANSP:OPAQUE
END:VEVENT
END:VCALENDAR
