BEGIN:VCALENDAR
VERSION:2.0
CALSCALE:GREGORIAN
BEGIN:VEVENT
DTSTAMP:20260423T013216
DTSTART:20260516T120000
DTEND:20260516T170000
SUMMARY:Wine + Music On The Hill / Cave Tastings
DESCRIPTION:Event Info: https://www.localwineevents.com/view/event/wine-music-on-the-hill-cave-tastings/1003137
LOCATION:August Hill Winery Wine on the Hill -- 21 N 2551st Rd Peru, IL 61354
STATUS:CONFIRMED
SEQUENCE:0
TRANSP:OPAQUE
END:VEVENT
END:VCALENDAR
