BEGIN:VCALENDAR
VERSION:2.0
CALSCALE:GREGORIAN
BEGIN:VEVENT
DTSTAMP:20260423T013900
DTSTART:20260523T153000
DTEND:20260523T183000
SUMMARY:Live Music At The Tasting Room
DESCRIPTION:Event Info: https://www.localwineevents.com/view/event/live-music-at-the-tasting-room/1003133
LOCATION:August Hill Winery -- 106 Mill Street Utica, IL 61373
STATUS:CONFIRMED
SEQUENCE:0
TRANSP:OPAQUE
END:VEVENT
END:VCALENDAR
