BEGIN:VCALENDAR
VERSION:2.0
CALSCALE:GREGORIAN
BEGIN:VEVENT
DTSTAMP:20260423T014022
DTSTART:20260510T110000
DTEND:20260510T180000
SUMMARY:Mother\'s Day Sweet Moments Flight
DESCRIPTION:Event Info: https://www.localwineevents.com/view/event/mothers-day-sweet-moments-flight/1003132
LOCATION:August Hill Winery Tasting Room -- 106 Mill Street Utica, IL 61373
STATUS:CONFIRMED
SEQUENCE:0
TRANSP:OPAQUE
END:VEVENT
END:VCALENDAR
