BEGIN:VCALENDAR
VERSION:2.0
CALSCALE:GREGORIAN
BEGIN:VEVENT
DTSTAMP:20260423T013222
DTSTART:20260502T110000
DTEND:20260502T160000
SUMMARY:Sip \'n\' Snip
DESCRIPTION:Event Info: https://www.localwineevents.com/view/event/sip-n-snip/1003130
LOCATION:August Hill Winery -- 106 Mill Street Utica, IL 61373
STATUS:CONFIRMED
SEQUENCE:0
TRANSP:OPAQUE
END:VEVENT
END:VCALENDAR
