BEGIN:VCALENDAR
VERSION:2.0
CALSCALE:GREGORIAN
BEGIN:VEVENT
DTSTAMP:20260422T232109
DTSTART:20260424T110000
DTEND:20260424T140000
SUMMARY:Vineyard Brands South American Tasting In Oakland 4/24
DESCRIPTION:Event Info: https://www.localwineevents.com/view/event/vineyard-brands-south-american-tasting-in-oakland-424/1003129
LOCATION:BOCANOVA -- 1111 Broadway Oakland, CA 94607
STATUS:CONFIRMED
SEQUENCE:0
TRANSP:OPAQUE
END:VEVENT
END:VCALENDAR
