BEGIN:VCALENDAR
VERSION:2.0
CALSCALE:GREGORIAN
BEGIN:VEVENT
DTSTAMP:20260423T135956
DTSTART:20260515T160000
DTEND:20260517T150000
SUMMARY:Geneva Cheese Festival
DESCRIPTION:Event Info: https://www.localwineevents.com/view/event/geneva-cheese-festival/1003122
LOCATION:Lake Geneva House of Music -- N3241 Co Trunk H Lake Geneva, WI 53147
STATUS:CONFIRMED
SEQUENCE:0
TRANSP:OPAQUE
END:VEVENT
END:VCALENDAR
